BEGIN:VCALENDAR
VERSION:2.0
PRODID:-//pretix//FabLab_Region_Nürnberg_e._V._Tickets//
BEGIN:VTIMEZONE
TZID:Europe/Berlin
BEGIN:STANDARD
DTSTART:20001029T030000
RRULE:FREQ=YEARLY;BYDAY=-1SU;BYMONTH=10
TZNAME:CET
TZOFFSETFROM:+0200
TZOFFSETTO:+0100
END:STANDARD
BEGIN:DAYLIGHT
DTSTART:20000326T020000
RRULE:FREQ=YEARLY;BYDAY=-1SU;BYMONTH=3
TZNAME:CEST
TZOFFSETFROM:+0100
TZOFFSETTO:+0200
END:DAYLIGHT
END:VTIMEZONE
BEGIN:VEVENT
UID:pretix-FLN-Inkscape2-0@tickets.fablab-nuernberg.de
DTSTART;TZID=Europe/Berlin:20230203T190000
DESCRIPTION:Tickets: https://tickets.fablab-nuernberg.de/FLN/Inkscape2/\nOr
 ganizer: Fab Lab Region Nürnberg e. V.
DTSTAMP:20260423T155524Z
LOCATION:Schwabacher Straße 512\, 90763 Fürth
SUMMARY:Workshop: Inkscape Aufbaukurs
END:VEVENT
BEGIN:VEVENT
UID:pretix-FLN-BlocksCAD1-0@tickets.fablab-nuernberg.de
DTSTART;TZID=Europe/Berlin:20230414T200000
DESCRIPTION:Tickets: https://tickets.fablab-nuernberg.de/FLN/BlocksCAD1/\nO
 rganizer: Fab Lab Region Nürnberg e. V.
DTSTAMP:20260423T155524Z
LOCATION:Schwabacher Straße 512\n90763 Fürth
SUMMARY:Workshop BlocksCAD
END:VEVENT
BEGIN:VEVENT
UID:pretix-FLN-Calliope2-0@tickets.fablab-nuernberg.de
DTSTART;TZID=Europe/Berlin:20230421T190000
DESCRIPTION:Tickets: https://tickets.fablab-nuernberg.de/FLN/Calliope2/\nOr
 ganizer: Fab Lab Region Nürnberg e. V.
DTSTAMP:20260423T155524Z
SUMMARY:Workshop: Lichtspektakel mit Calliope mini / BBC:microbit
END:VEVENT
BEGIN:VEVENT
UID:pretix-FLN-3Dbau-0@tickets.fablab-nuernberg.de
DTSTART:20230428T150000Z
DESCRIPTION:Tickets: https://tickets.fablab-nuernberg.de/FLN/3Dbau/\nOrgani
 zer: Fab Lab Region Nürnberg e. V.
DTSTAMP:20260423T155524Z
LOCATION:FabLab Nürnberg\nSchwabacher Straße 512\n90763 Fürth
SUMMARY:Kids-Workshop: 3D Drucker Aufbau und Kalibrierung
END:VEVENT
BEGIN:VEVENT
UID:pretix-FLN-FreeCAD-0@tickets.fablab-nuernberg.de
DTSTART;TZID=Europe/Berlin:20241115T190000
DESCRIPTION:Tickets: https://tickets.fablab-nuernberg.de/FLN/FreeCAD/\nOrga
 nizer: Fab Lab Region Nürnberg e. V.
DTSTAMP:20260423T155524Z
LOCATION:FabLab Nürnberg\nSchwabacher Straße 512\n90763 Fürth
SUMMARY:FreeCAD Workshop - Personalisierung einer Datei
END:VEVENT
BEGIN:VEVENT
UID:pretix-FLN-FreeCADneu-0@tickets.fablab-nuernberg.de
DTSTART;TZID=Europe/Berlin:20250110T190000
DESCRIPTION:Tickets: https://tickets.fablab-nuernberg.de/FLN/FreeCADneu/\nO
 rganizer: Fab Lab Region Nürnberg e. V.
DTSTAMP:20260423T155524Z
LOCATION:Schwabacher Straße 5125\, 90763 Fürth
SUMMARY:FreeCAD für Gehäusebauer*innen
END:VEVENT
BEGIN:VEVENT
UID:pretix-FLN-InkStitch1-0@tickets.fablab-nuernberg.de
DTSTART;TZID=Europe/Berlin:20250120T190000
DESCRIPTION:Tickets: https://tickets.fablab-nuernberg.de/FLN/InkStitch1/\nO
 rganizer: Fab Lab Region Nürnberg e. V.
DTSTAMP:20260423T155524Z
LOCATION:FabLab Nürnberg \nSchwabacher Straße 512\n90763 Fürth
SUMMARY:Ink/Stitch
END:VEVENT
BEGIN:VEVENT
UID:pretix-FLN-arduino1-0@tickets.fablab-nuernberg.de
DTSTART;TZID=Europe/Berlin:20250124T190000
DTEND;TZID=Europe/Berlin:20250124T210000
DESCRIPTION:Tickets: https://tickets.fablab-nuernberg.de/FLN/arduino1/\nOrg
 anizer: Fab Lab Region Nürnberg e. V.
DTSTAMP:20260423T155524Z
LOCATION:FabLab Nürnberg\nSchwabacher Straße 512\n90763 Fürth
SUMMARY:Arduino für Einsteiger*innen
END:VEVENT
BEGIN:VEVENT
UID:pretix-FLN-LS-0@tickets.fablab-nuernberg.de
DTSTART;TZID=Europe/Berlin:20251103T140000
DESCRIPTION:Tickets: https://tickets.fablab-nuernberg.de/FLN/LS/\nOrganizer
 : Fab Lab Region Nürnberg e. V.
DTSTAMP:20260423T155524Z
LOCATION:Schwabacher Str. 512\n90763 Fürth
SUMMARY:Workshop - Löten & Solar
END:VEVENT
BEGIN:VEVENT
UID:pretix-FLN-Laser3d-0@tickets.fablab-nuernberg.de
DTSTART;TZID=Europe/Berlin:20251104T140000
DESCRIPTION:Tickets: https://tickets.fablab-nuernberg.de/FLN/Laser3d/\nOrga
 nizer: Fab Lab Region Nürnberg e. V.
DTSTAMP:20260423T155524Z
LOCATION:Schwabacher Str. 512\n90763 Fürth
SUMMARY:Kids Workshop - Laser andersherum
END:VEVENT
BEGIN:VEVENT
UID:pretix-FLN-TCADi-0@tickets.fablab-nuernberg.de
DTSTART;TZID=Europe/Berlin:20251114T190000
DTEND;TZID=Europe/Berlin:20251114T203000
DESCRIPTION:Tickets: https://tickets.fablab-nuernberg.de/FLN/TCADi/\nOrgani
 zer: Fab Lab Region Nürnberg e. V.
DTSTAMP:20260423T155524Z
SUMMARY:TinkerCAD Workshop - Vereinsintern
END:VEVENT
BEGIN:VEVENT
UID:pretix-FLN-mwc1-0@tickets.fablab-nuernberg.de
DTSTART;TZID=Europe/Berlin:20260226T180000
DTEND;TZID=Europe/Berlin:20260226T210000
DESCRIPTION:Tickets: https://tickets.fablab-nuernberg.de/FLN/mwc1/\nOrganiz
 er: Fab Lab Region Nürnberg e. V.
DTSTAMP:20260423T155524Z
LOCATION:FabLab Region Nürnberg e.V.\nSchwabacher Straße 512\n90763 Fürth
SUMMARY:Mini-Wordclock  (DIY Next Level)
END:VEVENT
BEGIN:VEVENT
UID:pretix-FLN-freecad-sketch1-0@tickets.fablab-nuernberg.de
DTSTART;TZID=Europe/Berlin:20260313T190000
DTEND;TZID=Europe/Berlin:20260313T210000
DESCRIPTION:Tickets: https://tickets.fablab-nuernberg.de/FLN/freecad-sketch
 1/\nOrganizer: Fab Lab Region Nürnberg e. V.
DTSTAMP:20260423T155524Z
LOCATION:FabLab Region Nürnberg e.V.\nSchwabacher Straße 512\, 90763 Fürth
SUMMARY:WORKSHOP: FreeCAD - Sketches und Extrusionen
END:VEVENT
BEGIN:VEVENT
UID:pretix-FLN-lzl2-0@tickets.fablab-nuernberg.de
DTSTART;TZID=Europe/Berlin:20260621T143000
DTEND;TZID=Europe/Berlin:20260621T180000
DESCRIPTION:Tickets: https://tickets.fablab-nuernberg.de/FLN/lzl2/\nOrganiz
 er: Fab Lab Region Nürnberg e. V.
DTSTAMP:20260423T155524Z
LOCATION:FabLab Region Nürnberg e.V.\nSchwabacher Straße 512\n90763 Fürth
SUMMARY:Lizenz zum Löten - Grundkurs Weichlöten (DIY Next Level)
END:VEVENT
END:VCALENDAR
