BEGIN:VCALENDAR
VERSION:2.0
PRODID:-//pretix//FabLab_Region_Nürnberg_e._V._Tickets//
BEGIN:VTIMEZONE
TZID:Europe/Berlin
BEGIN:STANDARD
DTSTART:20001029T030000
RRULE:FREQ=YEARLY;BYDAY=-1SU;BYMONTH=10
TZNAME:CET
TZOFFSETFROM:+0200
TZOFFSETTO:+0100
END:STANDARD
BEGIN:DAYLIGHT
DTSTART:20000326T020000
RRULE:FREQ=YEARLY;BYDAY=-1SU;BYMONTH=3
TZNAME:CEST
TZOFFSETFROM:+0100
TZOFFSETTO:+0200
END:DAYLIGHT
END:VTIMEZONE
BEGIN:VEVENT
UID:pretix-FLN-FreeCADneu-0@tickets.fablab-nuernberg.de
DTSTART;TZID=Europe/Berlin:20250110T190000
DESCRIPTION:Tickets: https://tickets.fablab-nuernberg.de/FLN/FreeCADneu/\nV
 eranstalter: Fab Lab Region Nürnberg e. V.
DTSTAMP:20260423T085903Z
LOCATION:Schwabacher Straße 5125\, 90763 Fürth
SUMMARY:FreeCAD für Gehäusebauer*innen
END:VEVENT
END:VCALENDAR
